BEGIN:VCALENDAR
VERSION:2.0
PRODID:-//Montgomery Planning Board - ECPv6.15.20//NONSGML v1.0//EN
CALSCALE:GREGORIAN
METHOD:PUBLISH
X-WR-CALNAME:Montgomery Planning Board
X-ORIGINAL-URL:https://montgomeryplanningboard.org
X-WR-CALDESC:Events for Montgomery Planning Board
REFRESH-INTERVAL;VALUE=DURATION:PT1H
X-Robots-Tag:noindex
X-PUBLISHED-TTL:PT1H
BEGIN:VTIMEZONE
TZID:America/New_York
BEGIN:DAYLIGHT
TZOFFSETFROM:-0500
TZOFFSETTO:-0400
TZNAME:EDT
DTSTART:20250309T070000
END:DAYLIGHT
BEGIN:STANDARD
TZOFFSETFROM:-0400
TZOFFSETTO:-0500
TZNAME:EST
DTSTART:20251102T060000
END:STANDARD
BEGIN:DAYLIGHT
TZOFFSETFROM:-0500
TZOFFSETTO:-0400
TZNAME:EDT
DTSTART:20260308T070000
END:DAYLIGHT
BEGIN:STANDARD
TZOFFSETFROM:-0400
TZOFFSETTO:-0500
TZNAME:EST
DTSTART:20261101T060000
END:STANDARD
BEGIN:DAYLIGHT
TZOFFSETFROM:-0500
TZOFFSETTO:-0400
TZNAME:EDT
DTSTART:20270314T070000
END:DAYLIGHT
BEGIN:STANDARD
TZOFFSETFROM:-0400
TZOFFSETTO:-0500
TZNAME:EST
DTSTART:20271107T060000
END:STANDARD
END:VTIMEZONE
BEGIN:VEVENT
DTSTART;VALUE=DATE:20260423
DTEND;VALUE=DATE:20260424
DTSTAMP:20260421T092254
CREATED:20231219T164732Z
LAST-MODIFIED:20260408T205704Z
UID:10000114-1776902400-1776988799@montgomeryplanningboard.org
SUMMARY:Planning Board Meeting
DESCRIPTION:The weekly meeting of the Montgomery County Planning Board at the M-NCPPC Wheaton Headquarters Auditorium\, 2425 Reedie Drive\, Wheaton\, MD 20902. \nFor more details on the schedule\, visit the meeting agendas page.
URL:https://montgomeryplanningboard.org/event/planning-board-meeting/2026-04-23/
LOCATION:M-NCPPC Wheaton Headquarters\, 2425 Reedie Drive\, Wheaton\, MD\, 20902\, United States
CATEGORIES:Planning Board Events
END:VEVENT
BEGIN:VEVENT
DTSTART;VALUE=DATE:20260430
DTEND;VALUE=DATE:20260501
DTSTAMP:20260421T092254
CREATED:20231219T164732Z
LAST-MODIFIED:20260408T205704Z
UID:10000115-1777507200-1777593599@montgomeryplanningboard.org
SUMMARY:Planning Board Meeting
DESCRIPTION:The weekly meeting of the Montgomery County Planning Board at the M-NCPPC Wheaton Headquarters Auditorium\, 2425 Reedie Drive\, Wheaton\, MD 20902. \nFor more details on the schedule\, visit the meeting agendas page.
URL:https://montgomeryplanningboard.org/event/planning-board-meeting/2026-04-30/
LOCATION:M-NCPPC Wheaton Headquarters\, 2425 Reedie Drive\, Wheaton\, MD\, 20902\, United States
CATEGORIES:Planning Board Events
END:VEVENT
BEGIN:VEVENT
DTSTART;TZID=America/New_York:20260430T174500
DTEND;TZID=America/New_York:20260430T194500
DTSTAMP:20260421T092254
CREATED:20260324T145100Z
LAST-MODIFIED:20260331T145633Z
UID:10000116-1777571100-1777578300@montgomeryplanningboard.org
SUMMARY:Net Zero that Pencils Out: Normalizing Sustainable Development
DESCRIPTION:Panel Event: 5:45 p.m. to 7:45 p.m. \nLight Reception with the Montgomery County Planning Board: 5:00 p.m. to 5:45 p.m. \nPanel: \n\nRokas Beresniovas\, Head of Partnerships & Business Development – Montgomery County Green Bank\nHeather Jauregui\, Director of Sustainability – Perkins Eastman\nDaniel McGee\, Director of Sustainability & Senior Development Associate – Redbrick LMD\n\nDetails: \nCan sustainable development be delivered without higher construction costs compared to traditional development? What does financially responsible\, climate-ready development look like for future generations in Montgomery County? And how can public- and private-sector partners integrate sustainability into projects right now\, using proven tools\, financing\, and design strategies? \nJoin the Montgomery County Planning Board for a dynamic panel discussion on how innovative design\, smart financing\, and integrated planning can make sustainable development achievable and cost effective. \nPanelists will share real-world examples about delivering high-performance\, low-carbon projects while demonstrating how sustainability goals can align with financial feasibility\, market realities\, and long-term value. The discussion will highlight the role of public-private collaboration\, creative financing mechanisms\, and thoughtful design in accelerating Montgomery County’s path toward net zero development. \nThis free event is open to the public. Continuing Education Credits are available. \nContinuing Education Credits (CEUs) available \n\nAmerican Society of Landscape Architects (LA CES): 5.0\nAmerican Planning Association (APA): 2.0\nAmerican Institute of Certified Planners (AICP): 2.0\n\nVisit montgomeryplanningboard.org/growingsmarter for more information. \n  \nEvent RSVP encouraged but not required: \n\n\n                \n                        \n                             \n                        \n                        Name\n                            \n                            \n                                                    First name\n                                                    \n                                                \n                            \n                            \n                                                            Last name\n                                                            \n                                                        \n                            \n                        Email\n                            \n                        Do you need any accessibility or language accommodations?\n			\n					\n					Yes\n			\n			\n					\n					No\n			If yes\, please contact the Chair’s Office at mcp-chair@mncppc-mc.org or 301-495-4605 at least five business days prior to the event.\n         Submit
URL:https://montgomeryplanningboard.org/event/net-zero-that-pencils-out-normalizing-sustainable-development/
LOCATION:M-NCPPC Wheaton Headquarters\, 2425 Reedie Drive\, Wheaton\, MD\, 20902\, United States
CATEGORIES:Planning Board Events
END:VEVENT
BEGIN:VEVENT
DTSTART;VALUE=DATE:20260507
DTEND;VALUE=DATE:20260508
DTSTAMP:20260421T092254
CREATED:20231219T164732Z
LAST-MODIFIED:20260408T205704Z
UID:10000117-1778112000-1778198399@montgomeryplanningboard.org
SUMMARY:Planning Board Meeting
DESCRIPTION:The weekly meeting of the Montgomery County Planning Board at the M-NCPPC Wheaton Headquarters Auditorium\, 2425 Reedie Drive\, Wheaton\, MD 20902. \nFor more details on the schedule\, visit the meeting agendas page.
URL:https://montgomeryplanningboard.org/event/planning-board-meeting/2026-05-07/
LOCATION:M-NCPPC Wheaton Headquarters\, 2425 Reedie Drive\, Wheaton\, MD\, 20902\, United States
CATEGORIES:Planning Board Events
END:VEVENT
BEGIN:VEVENT
DTSTART;VALUE=DATE:20260514
DTEND;VALUE=DATE:20260515
DTSTAMP:20260421T092254
CREATED:20231219T164732Z
LAST-MODIFIED:20260408T205704Z
UID:10000118-1778716800-1778803199@montgomeryplanningboard.org
SUMMARY:Planning Board Meeting
DESCRIPTION:The weekly meeting of the Montgomery County Planning Board at the M-NCPPC Wheaton Headquarters Auditorium\, 2425 Reedie Drive\, Wheaton\, MD 20902. \nFor more details on the schedule\, visit the meeting agendas page.
URL:https://montgomeryplanningboard.org/event/planning-board-meeting/2026-05-14/
LOCATION:M-NCPPC Wheaton Headquarters\, 2425 Reedie Drive\, Wheaton\, MD\, 20902\, United States
CATEGORIES:Planning Board Events
END:VEVENT
BEGIN:VEVENT
DTSTART;VALUE=DATE:20260521
DTEND;VALUE=DATE:20260522
DTSTAMP:20260421T092254
CREATED:20231219T164732Z
LAST-MODIFIED:20260408T205704Z
UID:10000119-1779321600-1779407999@montgomeryplanningboard.org
SUMMARY:Planning Board Meeting
DESCRIPTION:The weekly meeting of the Montgomery County Planning Board at the M-NCPPC Wheaton Headquarters Auditorium\, 2425 Reedie Drive\, Wheaton\, MD 20902. \nFor more details on the schedule\, visit the meeting agendas page.
URL:https://montgomeryplanningboard.org/event/planning-board-meeting/2026-05-21/
LOCATION:M-NCPPC Wheaton Headquarters\, 2425 Reedie Drive\, Wheaton\, MD\, 20902\, United States
CATEGORIES:Planning Board Events
END:VEVENT
BEGIN:VEVENT
DTSTART;VALUE=DATE:20260528
DTEND;VALUE=DATE:20260529
DTSTAMP:20260421T092254
CREATED:20231219T164732Z
LAST-MODIFIED:20260408T205704Z
UID:10000120-1779926400-1780012799@montgomeryplanningboard.org
SUMMARY:Planning Board Meeting
DESCRIPTION:The weekly meeting of the Montgomery County Planning Board at the M-NCPPC Wheaton Headquarters Auditorium\, 2425 Reedie Drive\, Wheaton\, MD 20902. \nFor more details on the schedule\, visit the meeting agendas page.
URL:https://montgomeryplanningboard.org/event/planning-board-meeting/2026-05-28/
LOCATION:M-NCPPC Wheaton Headquarters\, 2425 Reedie Drive\, Wheaton\, MD\, 20902\, United States
CATEGORIES:Planning Board Events
END:VEVENT
BEGIN:VEVENT
DTSTART;VALUE=DATE:20260604
DTEND;VALUE=DATE:20260605
DTSTAMP:20260421T092254
CREATED:20231219T164732Z
LAST-MODIFIED:20260408T205704Z
UID:10000121-1780531200-1780617599@montgomeryplanningboard.org
SUMMARY:Planning Board Meeting
DESCRIPTION:The weekly meeting of the Montgomery County Planning Board at the M-NCPPC Wheaton Headquarters Auditorium\, 2425 Reedie Drive\, Wheaton\, MD 20902. \nFor more details on the schedule\, visit the meeting agendas page.
URL:https://montgomeryplanningboard.org/event/planning-board-meeting/2026-06-04/
LOCATION:M-NCPPC Wheaton Headquarters\, 2425 Reedie Drive\, Wheaton\, MD\, 20902\, United States
CATEGORIES:Planning Board Events
END:VEVENT
BEGIN:VEVENT
DTSTART;VALUE=DATE:20260611
DTEND;VALUE=DATE:20260612
DTSTAMP:20260421T092254
CREATED:20231219T164732Z
LAST-MODIFIED:20260408T205704Z
UID:10000122-1781136000-1781222399@montgomeryplanningboard.org
SUMMARY:Planning Board Meeting
DESCRIPTION:The weekly meeting of the Montgomery County Planning Board at the M-NCPPC Wheaton Headquarters Auditorium\, 2425 Reedie Drive\, Wheaton\, MD 20902. \nFor more details on the schedule\, visit the meeting agendas page.
URL:https://montgomeryplanningboard.org/event/planning-board-meeting/2026-06-11/
LOCATION:M-NCPPC Wheaton Headquarters\, 2425 Reedie Drive\, Wheaton\, MD\, 20902\, United States
CATEGORIES:Planning Board Events
END:VEVENT
BEGIN:VEVENT
DTSTART;VALUE=DATE:20260618
DTEND;VALUE=DATE:20260619
DTSTAMP:20260421T092254
CREATED:20231219T164732Z
LAST-MODIFIED:20260408T205704Z
UID:10000123-1781740800-1781827199@montgomeryplanningboard.org
SUMMARY:Planning Board Meeting
DESCRIPTION:The weekly meeting of the Montgomery County Planning Board at the M-NCPPC Wheaton Headquarters Auditorium\, 2425 Reedie Drive\, Wheaton\, MD 20902. \nFor more details on the schedule\, visit the meeting agendas page.
URL:https://montgomeryplanningboard.org/event/planning-board-meeting/2026-06-18/
LOCATION:M-NCPPC Wheaton Headquarters\, 2425 Reedie Drive\, Wheaton\, MD\, 20902\, United States
CATEGORIES:Planning Board Events
END:VEVENT
BEGIN:VEVENT
DTSTART;VALUE=DATE:20260625
DTEND;VALUE=DATE:20260626
DTSTAMP:20260421T092254
CREATED:20231219T164732Z
LAST-MODIFIED:20260408T205704Z
UID:10000124-1782345600-1782431999@montgomeryplanningboard.org
SUMMARY:Planning Board Meeting
DESCRIPTION:The weekly meeting of the Montgomery County Planning Board at the M-NCPPC Wheaton Headquarters Auditorium\, 2425 Reedie Drive\, Wheaton\, MD 20902. \nFor more details on the schedule\, visit the meeting agendas page.
URL:https://montgomeryplanningboard.org/event/planning-board-meeting/2026-06-25/
LOCATION:M-NCPPC Wheaton Headquarters\, 2425 Reedie Drive\, Wheaton\, MD\, 20902\, United States
CATEGORIES:Planning Board Events
END:VEVENT
END:VCALENDAR